BEGIN:VCALENDAR
VERSION:2.0
PRODID:-//The Shala - ECPv6.6.0.2//NONSGML v1.0//EN
CALSCALE:GREGORIAN
METHOD:PUBLISH
X-ORIGINAL-URL:https://the-shala.com
X-WR-CALDESC:Events for The Shala
REFRESH-INTERVAL;VALUE=DURATION:PT1H
X-Robots-Tag:noindex
X-PUBLISHED-TTL:PT1H
BEGIN:VTIMEZONE
TZID:Europe/London
BEGIN:DAYLIGHT
TZOFFSETFROM:+0000
TZOFFSETTO:+0100
TZNAME:BST
DTSTART:20290325T010000
END:DAYLIGHT
BEGIN:STANDARD
TZOFFSETFROM:+0100
TZOFFSETTO:+0000
TZNAME:GMT
DTSTART:20291028T010000
END:STANDARD
END:VTIMEZONE
BEGIN:VEVENT
DTSTART;TZID=Europe/London:20290705T191500
DTEND;TZID=Europe/London:20290705T204500
DTSTAMP:20260423T223224
CREATED:20240820T131209Z
LAST-MODIFIED:20240903T102824Z
UID:10001376-1877973300-1877978700@the-shala.com
SUMMARY:Sound Harmonisations
DESCRIPTION:Monthly Sound Harmonisations: \nHarmonising the subtle energy fields with acoustic instruments & elemental sounds around the body\, tuning you with yourself.  Beyond deep relaxation\, these group sessions can help with; sleep disorders\, anxiety\, depression\, stress management & pain management. \nFirst Thursday of every month
URL:https://the-shala.com/event/sound-harmonisations/2029-07-05/
LOCATION:The Shala\, United Kingdom
END:VEVENT
BEGIN:VEVENT
DTSTART;TZID=Europe/London:20290709T191500
DTEND;TZID=Europe/London:20290709T203000
DTSTAMP:20260423T223224
CREATED:20240710T125613Z
LAST-MODIFIED:20240710T132503Z
UID:10000261-1878318900-1878323400@the-shala.com
SUMMARY:Yin Yoga - Mondays
DESCRIPTION:
URL:https://the-shala.com/event/yin-yoga/2029-07-09/
LOCATION:The Shala\, United Kingdom
END:VEVENT
BEGIN:VEVENT
DTSTART;TZID=Europe/London:20290710T191500
DTEND;TZID=Europe/London:20290710T203000
DTSTAMP:20260423T223224
CREATED:20240710T130534Z
LAST-MODIFIED:20240710T132748Z
UID:10000783-1878405300-1878409800@the-shala.com
SUMMARY:Flow Yoga - Tuesdays
DESCRIPTION:Vinyasa Flow Yoga links movement and breath to attain balance in the mind and body. From the Sanskrit “to place in a special way\,” vinyasa aligns a deliberate sequence of poses with the breath to achieve a continuous flow.
URL:https://the-shala.com/event/flow-yoga/2029-07-10/
LOCATION:The Shala\, United Kingdom
END:VEVENT
BEGIN:VEVENT
DTSTART;TZID=Europe/London:20290802T191500
DTEND;TZID=Europe/London:20290802T204500
DTSTAMP:20260423T223224
CREATED:20240820T131209Z
LAST-MODIFIED:20240903T102824Z
UID:10001377-1880392500-1880397900@the-shala.com
SUMMARY:Sound Harmonisations
DESCRIPTION:Monthly Sound Harmonisations: \nHarmonising the subtle energy fields with acoustic instruments & elemental sounds around the body\, tuning you with yourself.  Beyond deep relaxation\, these group sessions can help with; sleep disorders\, anxiety\, depression\, stress management & pain management. \nFirst Thursday of every month
URL:https://the-shala.com/event/sound-harmonisations/2029-08-02/
LOCATION:The Shala\, United Kingdom
END:VEVENT
END:VCALENDAR