BEGIN:VCALENDAR
VERSION:2.0
PRODID:-//The Shala - ECPv6.6.0.2//NONSGML v1.0//EN
CALSCALE:GREGORIAN
METHOD:PUBLISH
X-ORIGINAL-URL:https://the-shala.com
X-WR-CALDESC:Events for The Shala
REFRESH-INTERVAL;VALUE=DURATION:PT1H
X-Robots-Tag:noindex
X-PUBLISHED-TTL:PT1H
BEGIN:VTIMEZONE
TZID:Europe/London
BEGIN:DAYLIGHT
TZOFFSETFROM:+0000
TZOFFSETTO:+0100
TZNAME:BST
DTSTART:20290325T010000
END:DAYLIGHT
BEGIN:STANDARD
TZOFFSETFROM:+0100
TZOFFSETTO:+0000
TZNAME:GMT
DTSTART:20291028T010000
END:STANDARD
END:VTIMEZONE
BEGIN:VEVENT
DTSTART;TZID=Europe/London:20290313T191500
DTEND;TZID=Europe/London:20290313T203000
DTSTAMP:20260423T153347
CREATED:20240710T130534Z
LAST-MODIFIED:20240710T132748Z
UID:10000766-1868123700-1868128200@the-shala.com
SUMMARY:Flow Yoga - Tuesdays
DESCRIPTION:Vinyasa Flow Yoga links movement and breath to attain balance in the mind and body. From the Sanskrit “to place in a special way\,” vinyasa aligns a deliberate sequence of poses with the breath to achieve a continuous flow.
URL:https://the-shala.com/event/flow-yoga/2029-03-13/
LOCATION:The Shala\, United Kingdom
END:VEVENT
BEGIN:VEVENT
DTSTART;TZID=Europe/London:20290319T191500
DTEND;TZID=Europe/London:20290319T203000
DTSTAMP:20260423T153347
CREATED:20240710T125613Z
LAST-MODIFIED:20240710T132503Z
UID:10000245-1868642100-1868646600@the-shala.com
SUMMARY:Yin Yoga - Mondays
DESCRIPTION:
URL:https://the-shala.com/event/yin-yoga/2029-03-19/
LOCATION:The Shala\, United Kingdom
END:VEVENT
BEGIN:VEVENT
DTSTART;TZID=Europe/London:20290320T191500
DTEND;TZID=Europe/London:20290320T203000
DTSTAMP:20260423T153347
CREATED:20240710T130534Z
LAST-MODIFIED:20240710T132748Z
UID:10000767-1868728500-1868733000@the-shala.com
SUMMARY:Flow Yoga - Tuesdays
DESCRIPTION:Vinyasa Flow Yoga links movement and breath to attain balance in the mind and body. From the Sanskrit “to place in a special way\,” vinyasa aligns a deliberate sequence of poses with the breath to achieve a continuous flow.
URL:https://the-shala.com/event/flow-yoga/2029-03-20/
LOCATION:The Shala\, United Kingdom
END:VEVENT
BEGIN:VEVENT
DTSTART;TZID=Europe/London:20290326T191500
DTEND;TZID=Europe/London:20290326T203000
DTSTAMP:20260423T153347
CREATED:20240710T125613Z
LAST-MODIFIED:20240710T132503Z
UID:10000246-1869246900-1869251400@the-shala.com
SUMMARY:Yin Yoga - Mondays
DESCRIPTION:
URL:https://the-shala.com/event/yin-yoga/2029-03-26/
LOCATION:The Shala\, United Kingdom
END:VEVENT
BEGIN:VEVENT
DTSTART;TZID=Europe/London:20290327T191500
DTEND;TZID=Europe/London:20290327T203000
DTSTAMP:20260423T153347
CREATED:20240710T130534Z
LAST-MODIFIED:20240710T132748Z
UID:10000768-1869333300-1869337800@the-shala.com
SUMMARY:Flow Yoga - Tuesdays
DESCRIPTION:Vinyasa Flow Yoga links movement and breath to attain balance in the mind and body. From the Sanskrit “to place in a special way\,” vinyasa aligns a deliberate sequence of poses with the breath to achieve a continuous flow.
URL:https://the-shala.com/event/flow-yoga/2029-03-27/
LOCATION:The Shala\, United Kingdom
END:VEVENT
BEGIN:VEVENT
DTSTART;TZID=Europe/London:20290402T191500
DTEND;TZID=Europe/London:20290402T203000
DTSTAMP:20260423T153347
CREATED:20240710T125613Z
LAST-MODIFIED:20240710T132503Z
UID:10000247-1869851700-1869856200@the-shala.com
SUMMARY:Yin Yoga - Mondays
DESCRIPTION:
URL:https://the-shala.com/event/yin-yoga/2029-04-02/
LOCATION:The Shala\, United Kingdom
END:VEVENT
BEGIN:VEVENT
DTSTART;TZID=Europe/London:20290403T191500
DTEND;TZID=Europe/London:20290403T203000
DTSTAMP:20260423T153347
CREATED:20240710T130534Z
LAST-MODIFIED:20240710T132748Z
UID:10000769-1869938100-1869942600@the-shala.com
SUMMARY:Flow Yoga - Tuesdays
DESCRIPTION:Vinyasa Flow Yoga links movement and breath to attain balance in the mind and body. From the Sanskrit “to place in a special way\,” vinyasa aligns a deliberate sequence of poses with the breath to achieve a continuous flow.
URL:https://the-shala.com/event/flow-yoga/2029-04-03/
LOCATION:The Shala\, United Kingdom
END:VEVENT
BEGIN:VEVENT
DTSTART;TZID=Europe/London:20290405T191500
DTEND;TZID=Europe/London:20290405T204500
DTSTAMP:20260423T153347
CREATED:20240820T131209Z
LAST-MODIFIED:20240903T102824Z
UID:10001373-1870110900-1870116300@the-shala.com
SUMMARY:Sound Harmonisations
DESCRIPTION:Monthly Sound Harmonisations: \nHarmonising the subtle energy fields with acoustic instruments & elemental sounds around the body\, tuning you with yourself.  Beyond deep relaxation\, these group sessions can help with; sleep disorders\, anxiety\, depression\, stress management & pain management. \nFirst Thursday of every month
URL:https://the-shala.com/event/sound-harmonisations/2029-04-05/
LOCATION:The Shala\, United Kingdom
END:VEVENT
BEGIN:VEVENT
DTSTART;TZID=Europe/London:20290409T191500
DTEND;TZID=Europe/London:20290409T203000
DTSTAMP:20260423T153347
CREATED:20240710T125613Z
LAST-MODIFIED:20240710T132503Z
UID:10000248-1870456500-1870461000@the-shala.com
SUMMARY:Yin Yoga - Mondays
DESCRIPTION:
URL:https://the-shala.com/event/yin-yoga/2029-04-09/
LOCATION:The Shala\, United Kingdom
END:VEVENT
BEGIN:VEVENT
DTSTART;TZID=Europe/London:20290410T191500
DTEND;TZID=Europe/London:20290410T203000
DTSTAMP:20260423T153347
CREATED:20240710T130534Z
LAST-MODIFIED:20240710T132748Z
UID:10000770-1870542900-1870547400@the-shala.com
SUMMARY:Flow Yoga - Tuesdays
DESCRIPTION:Vinyasa Flow Yoga links movement and breath to attain balance in the mind and body. From the Sanskrit “to place in a special way\,” vinyasa aligns a deliberate sequence of poses with the breath to achieve a continuous flow.
URL:https://the-shala.com/event/flow-yoga/2029-04-10/
LOCATION:The Shala\, United Kingdom
END:VEVENT
BEGIN:VEVENT
DTSTART;TZID=Europe/London:20290416T191500
DTEND;TZID=Europe/London:20290416T203000
DTSTAMP:20260423T153347
CREATED:20240710T125613Z
LAST-MODIFIED:20240710T132503Z
UID:10000249-1871061300-1871065800@the-shala.com
SUMMARY:Yin Yoga - Mondays
DESCRIPTION:
URL:https://the-shala.com/event/yin-yoga/2029-04-16/
LOCATION:The Shala\, United Kingdom
END:VEVENT
BEGIN:VEVENT
DTSTART;TZID=Europe/London:20290417T191500
DTEND;TZID=Europe/London:20290417T203000
DTSTAMP:20260423T153347
CREATED:20240710T130534Z
LAST-MODIFIED:20240710T132748Z
UID:10000771-1871147700-1871152200@the-shala.com
SUMMARY:Flow Yoga - Tuesdays
DESCRIPTION:Vinyasa Flow Yoga links movement and breath to attain balance in the mind and body. From the Sanskrit “to place in a special way\,” vinyasa aligns a deliberate sequence of poses with the breath to achieve a continuous flow.
URL:https://the-shala.com/event/flow-yoga/2029-04-17/
LOCATION:The Shala\, United Kingdom
END:VEVENT
BEGIN:VEVENT
DTSTART;TZID=Europe/London:20290423T191500
DTEND;TZID=Europe/London:20290423T203000
DTSTAMP:20260423T153347
CREATED:20240710T125613Z
LAST-MODIFIED:20240710T132503Z
UID:10000250-1871666100-1871670600@the-shala.com
SUMMARY:Yin Yoga - Mondays
DESCRIPTION:
URL:https://the-shala.com/event/yin-yoga/2029-04-23/
LOCATION:The Shala\, United Kingdom
END:VEVENT
BEGIN:VEVENT
DTSTART;TZID=Europe/London:20290424T191500
DTEND;TZID=Europe/London:20290424T203000
DTSTAMP:20260423T153347
CREATED:20240710T130534Z
LAST-MODIFIED:20240710T132748Z
UID:10000772-1871752500-1871757000@the-shala.com
SUMMARY:Flow Yoga - Tuesdays
DESCRIPTION:Vinyasa Flow Yoga links movement and breath to attain balance in the mind and body. From the Sanskrit “to place in a special way\,” vinyasa aligns a deliberate sequence of poses with the breath to achieve a continuous flow.
URL:https://the-shala.com/event/flow-yoga/2029-04-24/
LOCATION:The Shala\, United Kingdom
END:VEVENT
BEGIN:VEVENT
DTSTART;TZID=Europe/London:20290430T191500
DTEND;TZID=Europe/London:20290430T203000
DTSTAMP:20260423T153347
CREATED:20240710T125613Z
LAST-MODIFIED:20240710T132503Z
UID:10000251-1872270900-1872275400@the-shala.com
SUMMARY:Yin Yoga - Mondays
DESCRIPTION:
URL:https://the-shala.com/event/yin-yoga/2029-04-30/
LOCATION:The Shala\, United Kingdom
END:VEVENT
BEGIN:VEVENT
DTSTART;TZID=Europe/London:20290501T191500
DTEND;TZID=Europe/London:20290501T203000
DTSTAMP:20260423T153347
CREATED:20240710T130534Z
LAST-MODIFIED:20240710T132748Z
UID:10000773-1872357300-1872361800@the-shala.com
SUMMARY:Flow Yoga - Tuesdays
DESCRIPTION:Vinyasa Flow Yoga links movement and breath to attain balance in the mind and body. From the Sanskrit “to place in a special way\,” vinyasa aligns a deliberate sequence of poses with the breath to achieve a continuous flow.
URL:https://the-shala.com/event/flow-yoga/2029-05-01/
LOCATION:The Shala\, United Kingdom
END:VEVENT
BEGIN:VEVENT
DTSTART;TZID=Europe/London:20290503T191500
DTEND;TZID=Europe/London:20290503T204500
DTSTAMP:20260423T153347
CREATED:20240820T131209Z
LAST-MODIFIED:20240903T102824Z
UID:10001374-1872530100-1872535500@the-shala.com
SUMMARY:Sound Harmonisations
DESCRIPTION:Monthly Sound Harmonisations: \nHarmonising the subtle energy fields with acoustic instruments & elemental sounds around the body\, tuning you with yourself.  Beyond deep relaxation\, these group sessions can help with; sleep disorders\, anxiety\, depression\, stress management & pain management. \nFirst Thursday of every month
URL:https://the-shala.com/event/sound-harmonisations/2029-05-03/
LOCATION:The Shala\, United Kingdom
END:VEVENT
BEGIN:VEVENT
DTSTART;TZID=Europe/London:20290507T191500
DTEND;TZID=Europe/London:20290507T203000
DTSTAMP:20260423T153347
CREATED:20240710T125613Z
LAST-MODIFIED:20240710T132503Z
UID:10000252-1872875700-1872880200@the-shala.com
SUMMARY:Yin Yoga - Mondays
DESCRIPTION:
URL:https://the-shala.com/event/yin-yoga/2029-05-07/
LOCATION:The Shala\, United Kingdom
END:VEVENT
BEGIN:VEVENT
DTSTART;TZID=Europe/London:20290508T191500
DTEND;TZID=Europe/London:20290508T203000
DTSTAMP:20260423T153347
CREATED:20240710T130534Z
LAST-MODIFIED:20240710T132748Z
UID:10000774-1872962100-1872966600@the-shala.com
SUMMARY:Flow Yoga - Tuesdays
DESCRIPTION:Vinyasa Flow Yoga links movement and breath to attain balance in the mind and body. From the Sanskrit “to place in a special way\,” vinyasa aligns a deliberate sequence of poses with the breath to achieve a continuous flow.
URL:https://the-shala.com/event/flow-yoga/2029-05-08/
LOCATION:The Shala\, United Kingdom
END:VEVENT
BEGIN:VEVENT
DTSTART;TZID=Europe/London:20290514T191500
DTEND;TZID=Europe/London:20290514T203000
DTSTAMP:20260423T153347
CREATED:20240710T125613Z
LAST-MODIFIED:20240710T132503Z
UID:10000253-1873480500-1873485000@the-shala.com
SUMMARY:Yin Yoga - Mondays
DESCRIPTION:
URL:https://the-shala.com/event/yin-yoga/2029-05-14/
LOCATION:The Shala\, United Kingdom
END:VEVENT
BEGIN:VEVENT
DTSTART;TZID=Europe/London:20290515T191500
DTEND;TZID=Europe/London:20290515T203000
DTSTAMP:20260423T153347
CREATED:20240710T130534Z
LAST-MODIFIED:20240710T132748Z
UID:10000775-1873566900-1873571400@the-shala.com
SUMMARY:Flow Yoga - Tuesdays
DESCRIPTION:Vinyasa Flow Yoga links movement and breath to attain balance in the mind and body. From the Sanskrit “to place in a special way\,” vinyasa aligns a deliberate sequence of poses with the breath to achieve a continuous flow.
URL:https://the-shala.com/event/flow-yoga/2029-05-15/
LOCATION:The Shala\, United Kingdom
END:VEVENT
BEGIN:VEVENT
DTSTART;TZID=Europe/London:20290521T191500
DTEND;TZID=Europe/London:20290521T203000
DTSTAMP:20260423T153347
CREATED:20240710T125613Z
LAST-MODIFIED:20240710T132503Z
UID:10000254-1874085300-1874089800@the-shala.com
SUMMARY:Yin Yoga - Mondays
DESCRIPTION:
URL:https://the-shala.com/event/yin-yoga/2029-05-21/
LOCATION:The Shala\, United Kingdom
END:VEVENT
BEGIN:VEVENT
DTSTART;TZID=Europe/London:20290522T191500
DTEND;TZID=Europe/London:20290522T203000
DTSTAMP:20260423T153347
CREATED:20240710T130534Z
LAST-MODIFIED:20240710T132748Z
UID:10000776-1874171700-1874176200@the-shala.com
SUMMARY:Flow Yoga - Tuesdays
DESCRIPTION:Vinyasa Flow Yoga links movement and breath to attain balance in the mind and body. From the Sanskrit “to place in a special way\,” vinyasa aligns a deliberate sequence of poses with the breath to achieve a continuous flow.
URL:https://the-shala.com/event/flow-yoga/2029-05-22/
LOCATION:The Shala\, United Kingdom
END:VEVENT
BEGIN:VEVENT
DTSTART;TZID=Europe/London:20290528T191500
DTEND;TZID=Europe/London:20290528T203000
DTSTAMP:20260423T153347
CREATED:20240710T125613Z
LAST-MODIFIED:20240710T132503Z
UID:10000255-1874690100-1874694600@the-shala.com
SUMMARY:Yin Yoga - Mondays
DESCRIPTION:
URL:https://the-shala.com/event/yin-yoga/2029-05-28/
LOCATION:The Shala\, United Kingdom
END:VEVENT
BEGIN:VEVENT
DTSTART;TZID=Europe/London:20290529T191500
DTEND;TZID=Europe/London:20290529T203000
DTSTAMP:20260423T153347
CREATED:20240710T130534Z
LAST-MODIFIED:20240710T132748Z
UID:10000777-1874776500-1874781000@the-shala.com
SUMMARY:Flow Yoga - Tuesdays
DESCRIPTION:Vinyasa Flow Yoga links movement and breath to attain balance in the mind and body. From the Sanskrit “to place in a special way\,” vinyasa aligns a deliberate sequence of poses with the breath to achieve a continuous flow.
URL:https://the-shala.com/event/flow-yoga/2029-05-29/
LOCATION:The Shala\, United Kingdom
END:VEVENT
BEGIN:VEVENT
DTSTART;TZID=Europe/London:20290604T191500
DTEND;TZID=Europe/London:20290604T203000
DTSTAMP:20260423T153347
CREATED:20240710T125613Z
LAST-MODIFIED:20240710T132503Z
UID:10000256-1875294900-1875299400@the-shala.com
SUMMARY:Yin Yoga - Mondays
DESCRIPTION:
URL:https://the-shala.com/event/yin-yoga/2029-06-04/
LOCATION:The Shala\, United Kingdom
END:VEVENT
BEGIN:VEVENT
DTSTART;TZID=Europe/London:20290605T191500
DTEND;TZID=Europe/London:20290605T203000
DTSTAMP:20260423T153347
CREATED:20240710T130534Z
LAST-MODIFIED:20240710T132748Z
UID:10000778-1875381300-1875385800@the-shala.com
SUMMARY:Flow Yoga - Tuesdays
DESCRIPTION:Vinyasa Flow Yoga links movement and breath to attain balance in the mind and body. From the Sanskrit “to place in a special way\,” vinyasa aligns a deliberate sequence of poses with the breath to achieve a continuous flow.
URL:https://the-shala.com/event/flow-yoga/2029-06-05/
LOCATION:The Shala\, United Kingdom
END:VEVENT
BEGIN:VEVENT
DTSTART;TZID=Europe/London:20290607T191500
DTEND;TZID=Europe/London:20290607T204500
DTSTAMP:20260423T153347
CREATED:20240820T131209Z
LAST-MODIFIED:20240903T102824Z
UID:10001375-1875554100-1875559500@the-shala.com
SUMMARY:Sound Harmonisations
DESCRIPTION:Monthly Sound Harmonisations: \nHarmonising the subtle energy fields with acoustic instruments & elemental sounds around the body\, tuning you with yourself.  Beyond deep relaxation\, these group sessions can help with; sleep disorders\, anxiety\, depression\, stress management & pain management. \nFirst Thursday of every month
URL:https://the-shala.com/event/sound-harmonisations/2029-06-07/
LOCATION:The Shala\, United Kingdom
END:VEVENT
BEGIN:VEVENT
DTSTART;TZID=Europe/London:20290611T191500
DTEND;TZID=Europe/London:20290611T203000
DTSTAMP:20260423T153347
CREATED:20240710T125613Z
LAST-MODIFIED:20240710T132503Z
UID:10000257-1875899700-1875904200@the-shala.com
SUMMARY:Yin Yoga - Mondays
DESCRIPTION:
URL:https://the-shala.com/event/yin-yoga/2029-06-11/
LOCATION:The Shala\, United Kingdom
END:VEVENT
BEGIN:VEVENT
DTSTART;TZID=Europe/London:20290612T191500
DTEND;TZID=Europe/London:20290612T203000
DTSTAMP:20260423T153347
CREATED:20240710T130534Z
LAST-MODIFIED:20240710T132748Z
UID:10000779-1875986100-1875990600@the-shala.com
SUMMARY:Flow Yoga - Tuesdays
DESCRIPTION:Vinyasa Flow Yoga links movement and breath to attain balance in the mind and body. From the Sanskrit “to place in a special way\,” vinyasa aligns a deliberate sequence of poses with the breath to achieve a continuous flow.
URL:https://the-shala.com/event/flow-yoga/2029-06-12/
LOCATION:The Shala\, United Kingdom
END:VEVENT
END:VCALENDAR