BEGIN:VCALENDAR
VERSION:2.0
PRODID:-//The Shala - ECPv6.6.0.2//NONSGML v1.0//EN
CALSCALE:GREGORIAN
METHOD:PUBLISH
X-WR-CALNAME:The Shala
X-ORIGINAL-URL:https://the-shala.com
X-WR-CALDESC:Events for The Shala
REFRESH-INTERVAL;VALUE=DURATION:PT1H
X-Robots-Tag:noindex
X-PUBLISHED-TTL:PT1H
BEGIN:VTIMEZONE
TZID:Europe/London
BEGIN:DAYLIGHT
TZOFFSETFROM:+0000
TZOFFSETTO:+0100
TZNAME:BST
DTSTART:20250330T010000
END:DAYLIGHT
BEGIN:STANDARD
TZOFFSETFROM:+0100
TZOFFSETTO:+0000
TZNAME:GMT
DTSTART:20251026T010000
END:STANDARD
END:VTIMEZONE
BEGIN:VEVENT
DTSTART;TZID=Europe/London:20250301T080000
DTEND;TZID=Europe/London:20250531T170000
DTSTAMP:20260423T235340
CREATED:20240820T135007Z
LAST-MODIFIED:20240820T135007Z
UID:10001318-1740816000-1748710800@the-shala.com
SUMMARY:French Retreat (Dates TBC)
DESCRIPTION:Looking for safe and deeply transformative processes to move forward in life? Or are you a sensitive individual wishing to be cosseted and away from it all\, while working on your emotional & spiritual hindrances? Our South of France Retreats provide a peaceful and nurturing environment for wellbeing and spiritual development amongst the soothing surroundings of the sun\, sea and hills of the Cote D ‘Azur. \nFrench Retreat\, Cote D ‘Azur: Spring 2027 (details TBC)
URL:https://the-shala.com/event/french-retreat-dates-tbc/
END:VEVENT
BEGIN:VEVENT
DTSTART;TZID=Europe/London:20250413T093000
DTEND;TZID=Europe/London:20250413T170000
DTSTAMP:20260423T235340
CREATED:20240710T135701Z
LAST-MODIFIED:20240903T103044Z
UID:10001316-1744536600-1744563600@the-shala.com
SUMMARY:Wellbeing Immersion
DESCRIPTION:Join us all for the opportunity to explore new ways of moving\, breathing and experiencing your true self. We will be stimulating blood flow\, igniting chi\, releasing fascia\, resetting the nervous system\, all to enrich the mind\, body and soul. \nThere will have plenty of time for a nutritious healthy vegan lunch\, with time to experience the natural surroundings by the river and marina at Harleyford Estate. \nThere is plenty of parking on site and all props etc. are here for your use. \nThe exchange is £85pp with a light lunch included. 9.30am – 4pm. \nWe hope you can join us and the growing yoga community here at The Shala. \nTo book please contact hello@the-shala.com
URL:https://the-shala.com/event/wellbeing-immersion/2025-04-13/
END:VEVENT
END:VCALENDAR